BEGIN:VCALENDAR
VERSION:2.0
PRODID:-//CompoundNET - ECPv6.2.2//NONSGML v1.0//EN
CALSCALE:GREGORIAN
METHOD:PUBLISH
X-ORIGINAL-URL:https://compoundevents.org
X-WR-CALDESC:Events for CompoundNET
REFRESH-INTERVAL;VALUE=DURATION:PT1H
X-Robots-Tag:noindex
X-PUBLISHED-TTL:PT1H
BEGIN:VTIMEZONE
TZID:Europe/Amsterdam
BEGIN:DAYLIGHT
TZOFFSETFROM:+0100
TZOFFSETTO:+0200
TZNAME:CEST
DTSTART:20240331T010000
END:DAYLIGHT
BEGIN:STANDARD
TZOFFSETFROM:+0200
TZOFFSETTO:+0100
TZNAME:CET
DTSTART:20241027T010000
END:STANDARD
END:VTIMEZONE
BEGIN:VEVENT
DTSTART;TZID=Europe/Amsterdam:20240924T080000
DTEND;TZID=Europe/Amsterdam:20241004T170000
DTSTAMP:20260419T153145
CREATED:20240702T113423Z
LAST-MODIFIED:20240702T113423Z
UID:3203-1727164800-1728061200@compoundevents.org
SUMMARY:3rd Como school on Compound Events
DESCRIPTION:
URL:https://compoundevents.org/event/3rd-como-school-on-compound-events/
END:VEVENT
END:VCALENDAR