BEGIN:VCALENDAR
VERSION:2.0
PRODID:-//CompoundNET - ECPv6.2.2//NONSGML v1.0//EN
CALSCALE:GREGORIAN
METHOD:PUBLISH
X-WR-CALNAME:CompoundNET
X-ORIGINAL-URL:https://compoundevents.org
X-WR-CALDESC:Events for CompoundNET
REFRESH-INTERVAL;VALUE=DURATION:PT1H
X-Robots-Tag:noindex
X-PUBLISHED-TTL:PT1H
BEGIN:VTIMEZONE
TZID:Europe/Amsterdam
BEGIN:DAYLIGHT
TZOFFSETFROM:+0100
TZOFFSETTO:+0200
TZNAME:CEST
DTSTART:20240331T010000
END:DAYLIGHT
BEGIN:STANDARD
TZOFFSETFROM:+0200
TZOFFSETTO:+0100
TZNAME:CET
DTSTART:20241027T010000
END:STANDARD
END:VTIMEZONE
BEGIN:VEVENT
DTSTART;VALUE=DATE:20240624
DTEND;VALUE=DATE:20240629
DTSTAMP:20260419T233245
CREATED:20240122T123326Z
LAST-MODIFIED:20240122T123326Z
UID:2951-1719187200-1719619199@compoundevents.org
SUMMARY:15th International Meeting on Statistical Climatology
DESCRIPTION:
URL:https://compoundevents.org/event/15th-international-meeting-on-statistical-climatology/
LOCATION:Centre International de Conférences\, Météo-France\, Toulouse\, France\, Toulouse\, France
END:VEVENT
END:VCALENDAR