BEGIN:VCALENDAR
VERSION:2.0
PRODID:-//CompoundNET - ECPv6.2.2//NONSGML v1.0//EN
CALSCALE:GREGORIAN
METHOD:PUBLISH
X-ORIGINAL-URL:https://compoundevents.org
X-WR-CALDESC:Events for CompoundNET
REFRESH-INTERVAL;VALUE=DURATION:PT1H
X-Robots-Tag:noindex
X-PUBLISHED-TTL:PT1H
BEGIN:VTIMEZONE
TZID:Europe/Amsterdam
BEGIN:DAYLIGHT
TZOFFSETFROM:+0100
TZOFFSETTO:+0200
TZNAME:CEST
DTSTART:20240331T010000
END:DAYLIGHT
BEGIN:STANDARD
TZOFFSETFROM:+0200
TZOFFSETTO:+0100
TZNAME:CET
DTSTART:20241027T010000
END:STANDARD
END:VTIMEZONE
BEGIN:VEVENT
DTSTART;TZID=Europe/Amsterdam:20240612T080000
DTEND;TZID=Europe/Amsterdam:20240616T170000
DTSTAMP:20260419T233837
CREATED:20230828T085257Z
LAST-MODIFIED:20230828T085257Z
UID:2755-1718179200-1718557200@compoundevents.org
SUMMARY:3rd International Conference on Natural Hazards and Risks in a Changing World: Addressing Compound and Multi-Hazard Risk
DESCRIPTION:
URL:https://compoundevents.org/event/3rd-international-conference-on-natural-hazards-and-risks-in-a-changing-world-addressing-compound-and-multi-hazard-risk/
LOCATION:Amsterdam\, Netherlands
END:VEVENT
END:VCALENDAR